BEGIN:VCALENDAR
VERSION:2.0
PRODID:-//eventon.com NONSGML v1.0//EN
BEGIN:VEVENT
UID:69eb58aaac356
DTSTAMP:20260424T204858
DTSTART:20260424T090000Z
DTEND:20260424T123000Z
LOCATION:
SUMMARY:オープンマイク
DESCRIPTION: 【日時】 2026年4月24日(金) 18：00〜21：30 &nbsp; 【参加費】 チャージ￥5[..]
END:VEVENT
END:VCALENDAR