BEGIN:VCALENDAR
VERSION:2.0
PRODID:-//eventon.com NONSGML v1.0//EN
BEGIN:VEVENT
UID:69e5ea6c0e5a3
DTSTAMP:20260420T175716
DTSTART:20260222T223000Z
DTEND:20260223T110000Z
LOCATION:
SUMMARY:貸切
DESCRIPTION: 貸切
END:VEVENT
END:VCALENDAR