BEGIN:VCALENDAR
VERSION:2.0
PRODID:-//eventon.com NONSGML v1.0//EN
BEGIN:VEVENT
UID:69ecae3153511
DTSTAMP:20260425T210609
DTSTART:20260424T150000Z
DTEND:20260425T145900Z
LOCATION:
SUMMARY:"ライブ予定"
DESCRIPTION: "ライブ予定"
END:VEVENT
END:VCALENDAR